{"text_format":"3","workbook":"xlsx","n_sheets":1,"sheets":["Протокол ШЭ ВОШ по предмету"],"not_rendered":{"external_links":1,"defined_names":1},"read":"whole","date_system":"1900"}

{"sheet":"Протокол ШЭ ВОШ по предмету","index":0,"n_rows":14,"n_cols":15,"rows_kept":14}
["№","Фамилия","Имя","Отчество","Дата рождения","Пол","Участник с ОВЗ (да/нет)","Класс обучения","Класс участия","Балл","Максимальный балл","Статус","Призёр муниципального этапа прошлого года","ФИО учителя","Место работы учителя"]
[1,{"$f":"'[1]Sheet 1'!F2","v":"Валиуллина"},{"$f":"'[1]Sheet 1'!G2","v":"Милана"},{"$f":"'[1]Sheet 1'!H2","v":"Раилевна"},"2011-01-25",{"$f":"'[1]Sheet 1'!J2","v":"Ж"},{"$f":"'[1]Sheet 1'!K2","v":"нет"},{"$f":"'[1]Sheet 1'!L2","v":5},{"$f":"'[1]Sheet 1'!L2","v":5},{"$f":"'[1]Sheet 1'!N2","v":60},{"$f":"'[1]Sheet 1'!O2","v":115},{"$f":"'[1]Sheet 1'!P2","v":"призёр"},{"$f":"'[1]Sheet 1'!Q2","v":"нет"},{"$f":"'[1]Sheet 1'!R2","v":"Ганиева Ильвира Ильшатовна"},{"$f":"'[1]Sheet 1'!S2","v":"МАОУ СОШ №10"}]
[2,{"$f":"'[1]Sheet 1'!F3","v":"Злыдина "},{"$f":"'[1]Sheet 1'!G3","v":"Злата"},{"$f":"'[1]Sheet 1'!H3","v":"Григорьевна"},"2011-02-03",{"$f":"'[1]Sheet 1'!J3","v":"Ж"},{"$f":"'[1]Sheet 1'!K3","v":"нет"},{"$f":"'[1]Sheet 1'!L3","v":5},{"$f":"'[1]Sheet 1'!L3","v":5},{"$f":"'[1]Sheet 1'!N3","v":54},{"$f":"'[1]Sheet 1'!O3","v":115},{"$f":"'[1]Sheet 1'!P3","v":"участник"},{"$f":"'[1]Sheet 1'!Q3","v":"нет"},{"$f":"'[1]Sheet 1'!R3","v":"Ганиева Ильвира Ильшатовна"},{"$f":"'[1]Sheet 1'!S3","v":"МАОУ СОШ №10"}]
[3,{"$f":"'[1]Sheet 1'!F4","v":"Ахметзянова"},{"$f":"'[1]Sheet 1'!G4","v":"Амилия"},{"$f":"'[1]Sheet 1'!H4","v":"Руслановна"},"2011-09-21",{"$f":"'[1]Sheet 1'!J4","v":"Ж"},{"$f":"'[1]Sheet 1'!K4","v":"нет"},{"$f":"'[1]Sheet 1'!L4","v":5},{"$f":"'[1]Sheet 1'!L4","v":5},{"$f":"'[1]Sheet 1'!N4","v":69},{"$f":"'[1]Sheet 1'!O4","v":115},{"$f":"'[1]Sheet 1'!P4","v":"победитель"},{"$f":"'[1]Sheet 1'!Q4","v":"нет"},{"$f":"'[1]Sheet 1'!R4","v":"Ганиева Ильвира Ильшатовна"},{"$f":"'[1]Sheet 1'!S4","v":"МАОУ СОШ №10"}]
[4,{"$f":"'[1]Sheet 1'!F5","v":"Иванова "},{"$f":"'[1]Sheet 1'!G5","v":"Софья"},{"$f":"'[1]Sheet 1'!H5","v":"Сергеевна"},"2011-06-15",{"$f":"'[1]Sheet 1'!J5","v":"Ж"},{"$f":"'[1]Sheet 1'!K5","v":"нет"},{"$f":"'[1]Sheet 1'!L5","v":5},{"$f":"'[1]Sheet 1'!L5","v":5},{"$f":"'[1]Sheet 1'!N5","v":55},{"$f":"'[1]Sheet 1'!O5","v":115},{"$f":"'[1]Sheet 1'!P5","v":"участник"},{"$f":"'[1]Sheet 1'!Q5","v":"нет"},{"$f":"'[1]Sheet 1'!R5","v":"Ганиева Ильвира Ильшатовна"},{"$f":"'[1]Sheet 1'!S5","v":"МАОУ СОШ №10"}]
[5,{"$f":"'[1]Sheet 1'!F6","v":"Бирюкова"},{"$f":"'[1]Sheet 1'!G6","v":"Софья"},{"$f":"'[1]Sheet 1'!H6","v":"Константиновна"},"2011-01-07",{"$f":"'[1]Sheet 1'!J6","v":"Ж"},{"$f":"'[1]Sheet 1'!K6","v":"нет"},{"$f":"'[1]Sheet 1'!L6","v":5},{"$f":"'[1]Sheet 1'!L6","v":5},{"$f":"'[1]Sheet 1'!N6","v":65},{"$f":"'[1]Sheet 1'!O6","v":115},{"$f":"'[1]Sheet 1'!P6","v":"призёр"},{"$f":"'[1]Sheet 1'!Q6","v":"нет"},{"$f":"'[1]Sheet 1'!R6","v":"Ганиева Ильвира Ильшатовна"},{"$f":"'[1]Sheet 1'!S6","v":"МАОУ СОШ №10"}]
[6,{"$f":"'[1]Sheet 1'!F7","v":"Комарова "},{"$f":"'[1]Sheet 1'!G7","v":"Юлия"},{"$f":"'[1]Sheet 1'!H7","v":"Александровна"},"2011-04-23",{"$f":"'[1]Sheet 1'!J7","v":"Ж"},{"$f":"'[1]Sheet 1'!K7","v":"нет"},{"$f":"'[1]Sheet 1'!L7","v":5},{"$f":"'[1]Sheet 1'!L7","v":5},{"$f":"'[1]Sheet 1'!N7","v":49},{"$f":"'[1]Sheet 1'!O7","v":115},{"$f":"'[1]Sheet 1'!P7","v":"участник"},{"$f":"'[1]Sheet 1'!Q7","v":"нет"},{"$f":"'[1]Sheet 1'!R7","v":"Ганиева Ильвира Ильшатовна"},{"$f":"'[1]Sheet 1'!S7","v":"МАОУ СОШ №10"}]
[7,{"$f":"'[1]Sheet 1'!F8","v":"Шаяхметова"},{"$f":"'[1]Sheet 1'!G8","v":"Сабина"},{"$f":"'[1]Sheet 1'!H8","v":"Ильшатовна"},"2010-12-19",{"$f":"'[1]Sheet 1'!J8","v":"Ж"},{"$f":"'[1]Sheet 1'!K8","v":"нет"},{"$f":"'[1]Sheet 1'!L8","v":6},{"$f":"'[1]Sheet 1'!L8","v":6},{"$f":"'[1]Sheet 1'!N8","v":63},{"$f":"'[1]Sheet 1'!O8","v":115},{"$f":"'[1]Sheet 1'!P8","v":"призёр"},{"$f":"'[1]Sheet 1'!Q8","v":"нет"},{"$f":"'[1]Sheet 1'!R8","v":"Ганиева Ильвира Ильшатовна"},{"$f":"'[1]Sheet 1'!S8","v":"МАОУ СОШ №10"}]
[8,{"$f":"'[1]Sheet 1'!F9","v":"Гарифуллина"},{"$f":"'[1]Sheet 1'!G9","v":"Элина"},{"$f":"'[1]Sheet 1'!H9","v":"Артуровна"},"2010-07-06",{"$f":"'[1]Sheet 1'!J9","v":"Ж"},{"$f":"'[1]Sheet 1'!K9","v":"нет"},{"$f":"'[1]Sheet 1'!L9","v":6},{"$f":"'[1]Sheet 1'!L9","v":6},{"$f":"'[1]Sheet 1'!N9","v":93},{"$f":"'[1]Sheet 1'!O9","v":115},{"$f":"'[1]Sheet 1'!P9","v":"призёр"},{"$f":"'[1]Sheet 1'!Q9","v":"нет"},{"$f":"'[1]Sheet 1'!R9","v":"Ганиева Ильвира Ильшатовна"},{"$f":"'[1]Sheet 1'!S9","v":"МАОУ СОШ №10"}]
[9,{"$f":"'[1]Sheet 1'!F10","v":"Мирхазова"},{"$f":"'[1]Sheet 1'!G10","v":"Эмилия"},{"$f":"'[1]Sheet 1'!H10","v":"Ильнаровна"},"2010-07-23",{"$f":"'[1]Sheet 1'!J10","v":"Ж"},{"$f":"'[1]Sheet 1'!K10","v":"нет"},{"$f":"'[1]Sheet 1'!L10","v":6},{"$f":"'[1]Sheet 1'!L10","v":6},{"$f":"'[1]Sheet 1'!N10","v":94},{"$f":"'[1]Sheet 1'!O10","v":115},{"$f":"'[1]Sheet 1'!P10","v":"победитель"},{"$f":"'[1]Sheet 1'!Q10","v":"нет"},{"$f":"'[1]Sheet 1'!R10","v":"Ганиева Ильвира Ильшатовна"},{"$f":"'[1]Sheet 1'!S10","v":"МАОУ СОШ №10"}]
[10,{"$f":"'[1]Sheet 1'!F11","v":"Давыдова"},{"$f":"'[1]Sheet 1'!G11","v":"Сембель"},{"$f":"'[1]Sheet 1'!H11","v":"Руслановна"},"2009-09-15",{"$f":"'[1]Sheet 1'!J11","v":"Ж"},{"$f":"'[1]Sheet 1'!K11","v":"нет"},{"$f":"'[1]Sheet 1'!L11","v":6},{"$f":"'[1]Sheet 1'!L11","v":6},{"$f":"'[1]Sheet 1'!N11","v":66},{"$f":"'[1]Sheet 1'!O11","v":115},{"$f":"'[1]Sheet 1'!P11","v":"призёр"},{"$f":"'[1]Sheet 1'!Q11","v":"нет"},{"$f":"'[1]Sheet 1'!R11","v":"Ганиева Ильвира Ильшатовна"},{"$f":"'[1]Sheet 1'!S11","v":"МАОУ СОШ №10"}]
[11,{"$f":"'[1]Sheet 1'!F12","v":"Моисеева "},{"$f":"'[1]Sheet 1'!G12","v":"Ева"},{"$f":"'[1]Sheet 1'!H12","v":"Александровна"},"2010-10-16",{"$f":"'[1]Sheet 1'!J12","v":"Ж"},{"$f":"'[1]Sheet 1'!K12","v":"нет"},{"$f":"'[1]Sheet 1'!L12","v":6},{"$f":"'[1]Sheet 1'!L12","v":6},{"$f":"'[1]Sheet 1'!N12","v":88},{"$f":"'[1]Sheet 1'!O12","v":115},{"$f":"'[1]Sheet 1'!P12","v":"призёр"},{"$f":"'[1]Sheet 1'!Q12","v":"нет"},{"$f":"'[1]Sheet 1'!R12","v":"Ганиева Ильвира Ильшатовна"},{"$f":"'[1]Sheet 1'!S12","v":"МАОУ СОШ №10"}]
[12,{"$f":"'[1]Sheet 1'!F13","v":"Исмагилова"},{"$f":"'[1]Sheet 1'!G13","v":"Амалия"},{"$f":"'[1]Sheet 1'!H13","v":"Ильдаровна"},"2009-06-10",{"$f":"'[1]Sheet 1'!J13","v":"Ж"},{"$f":"'[1]Sheet 1'!K13","v":"нет"},{"$f":"'[1]Sheet 1'!L13","v":7},{"$f":"'[1]Sheet 1'!L13","v":7},{"$f":"'[1]Sheet 1'!N13","v":110},{"$f":"'[1]Sheet 1'!O13","v":165},{"$f":"'[1]Sheet 1'!P13","v":"призёр"},{"$f":"'[1]Sheet 1'!Q13","v":"нет"},{"$f":"'[1]Sheet 1'!R13","v":"Ганиева Ильвира Ильшатовна"},{"$f":"'[1]Sheet 1'!S13","v":"МАОУ СОШ №10"}]
[13,{"$f":"'[1]Sheet 1'!F14","v":"Гиниятуллина "},{"$f":"'[1]Sheet 1'!G14","v":"Фарида"},{"$f":"'[1]Sheet 1'!H14","v":"Айдаровна"},"2009-06-29",{"$f":"'[1]Sheet 1'!J14","v":"Ж"},{"$f":"'[1]Sheet 1'!K14","v":"нет"},{"$f":"'[1]Sheet 1'!L14","v":7},{"$f":"'[1]Sheet 1'!L14","v":7},{"$f":"'[1]Sheet 1'!N14","v":70},{"$f":"'[1]Sheet 1'!O14","v":165},{"$f":"'[1]Sheet 1'!P14","v":"участник"},{"$f":"'[1]Sheet 1'!Q14","v":"нет"},{"$f":"'[1]Sheet 1'!R14","v":"Ганиева Ильвира Ильшатовна"},{"$f":"'[1]Sheet 1'!S14","v":"МАОУ СОШ №10"}]